BEGIN:VCALENDAR
VERSION:2.0
PRODID:-//UDGC//Event Calendar//TW
CALSCALE:GREGORIAN
METHOD:PUBLISH
X-WR-CALNAME:北市大性研社 - 最新活動
X-WR-CALDESC:北市大性研社的最新活動資訊
X-WR-TIMEZONE:Asia/Taipei
X-WR-CALURL:https://udgc.cc/ics/organizations/1/
X-PUBLISHED-TTL:PT1H
REFRESH-INTERVAL;VALUE=DURATION:PT1H
BEGIN:VEVENT
UID:63d8b70f-3c12-482f-a21b-53b4fec3cce5@udgc.cc
DTSTAMP:20260421T182344
DTSTART:20260219T021000
DTEND:20260219T141000
SUMMARY:TEST2
DESCRIPTION:<p>https://instagram.com/utgsc0529<br><a target="_blank" rel="noopener noreferrer" href="https://instagram.com/utgsc0529">測試看看</a></p><p><strong>不知道如何</strong></p>
LOCATION:線上
END:VEVENT
BEGIN:VEVENT
UID:6a2c6109-951a-4c59-9245-621a4879fbe4@udgc.cc
DTSTAMP:20260421T182344
DTSTART:20260225T181500
DTEND:20260225T201500
SUMMARY:1142期初社聚
DESCRIPTION:<p>農曆新年祝大家新年快樂！社長寒假不小心過到太渾沌了，也是時候該準備下學期的活動了</p><p>這次為新一學期的第一次社團活動，期初社聚，歡迎大家一同來簡單聊聊天，認識瞭解與討論社團相關事務！</p><p>社團<a target="_blank" rel="noopener noreferrer" href="https://www.instagram.com/utgsc0529/profilecard/?igsh=MXJrMWhjeWZjaWtjNA==">IG@utgsc0529</a>，<a target="_blank" rel="noopener noreferrer" href="https://x.com/utgsc0529">X@utgsc0529</a>，mail:utgsc0529@gmail.com</p><p>本次活動資訊：</p><p><strong>校內中正堂前廣場集合時間：17:50前（欲自行前往者請先回信）</strong></p><p>時間：2/25（三） 18:15～20:15+</p><p>地點：報名後活動前通知</p><p>主題：期初社聚</p><p>報名費用：<strong>本社社員及多元性別聯盟會員免收</strong>，其餘非社員將<strong>酌收50元社團行政營運費</strong>。</p><p>------------------------</p><p>--------注意事項--------</p><p>------------------------</p><p>活動詳情依報名填寫狀況而定，包括地點及額外費用等！</p><p>（後續將寄送報名成功信，也請注意檢查是否有寄至垃圾郵件）</p><p>報名最遲至115.2.22中午12:00截止。（根據人數進行安排訂位或其他調整）</p><p>------------------------</p><p>以上詳細社團相關資訊，請見本社IG帳號</p><p>如果有任何問題或想要交流的地方，歡迎洽詢本社！</p><p>以下表單如有不周之處，敬請指教！</p><p>※有意入社者請最晚於每次社團課前一日中午12:00之前填寫入社表單：<a target="_blank" rel="noopener noreferrer" href="https://forms.gle/B9w2CjHBYT5BkHybA">https://forms.gle/B9w2CjHBYT5BkHybA</a></p><p>※本社社團地點：博愛校區</p>
LOCATION:報名後活動前通知
END:VEVENT
BEGIN:VEVENT
UID:de49d5d6-34ec-4d73-a1ea-5d99692a39c9@udgc.cc
DTSTAMP:20260421T182344
DTSTART:20260226T172900
DTEND:20260226T182900
SUMMARY:測試用
DESCRIPTION:
LOCATION:線上
END:VEVENT
BEGIN:VEVENT
UID:977fa054-c21e-4c55-a258-f7d258159cef@udgc.cc
DTSTAMP:20260421T182344
DTSTART:20260304T181500
DTEND:20260304T201500
SUMMARY:匿名聊天會：成人水療中心(114-2)
DESCRIPTION:<p>在網路上以及生活中對於性或性別的話題相對於以往都開放了不少，但是想到我們對於朋友之間想開口談性，可能就不見得開的了口，或者也不知從何開口，也擔心聊天尺度上的問題...</p><p>這次，我們藉由一同聽網路podcast，輔以匿名聊天工具來對談～這次也是我們想嘗試不同形式的聊天會，儘管不知道會發生些什麼，但如果你也願意與我們一同聊聊看關於成人場域的話題，歡迎來參加！<br>社團<a target="_blank" rel="noopener noreferrer" href="https://www.google.com/url?q=https://www.instagram.com/utgsc0529/profilecard/?igsh%3DMXJrMWhjeWZjaWtjNA%3D%3D&amp;sa=D&amp;source=calendar&amp;usd=2&amp;usg=AOvVaw2IyqZAQKDywnHLe5x7EKRM">IG@utgsc0529</a>，<a href="mailto:mail%3Autgsc0529@gmail.com">mail:utgsc0529@gmail.com</a><br>本次活動資訊：<br>時間：3/4（三）18:15~20:15<br>課程地點：博愛校區C210<br>主題：匿名聊天會：成人水療中心<br>費用：本社社員、多元性別聯盟成員免費<br>非社員：（依個人狀況收取費用）<br>本校同學本學期第一次參與本社社課(請帶學生證查驗身分)/</p><p>使用udgc平台報名者(推廣期間可選擇Google表單或udgc平台表單擇一報名即可)/</p><p>我有零食可以分享/跟朋友一起來聊天 - 免收<br>我有一點支持的動力 - 20元<br>基本的一次性社員 - 50元<br>我想要社團請更多講師 - 100元<br>多元性別聯盟成員欲參與者記得提醒社長更新成員名單以便核對！<br>後續將寄送報名成功信，請務必確認有收到成功信再來！<br>若於報名截止當日23:59前未收到，請來信社團確認。<br>報名至活動前一日12:00截止<br>&nbsp;</p><p>以上詳細社團相關資訊，請見本社IG帳號</p><p>同時以下會列出一些問題，包括與多元性別群體之關係等性別相關之問題，僅將作為社團研究之主題討論方向參考。如果有任何問題或想要交流的地方，歡迎洽詢本社！</p><p>以下表單如有不周之處，敬請指教！（如udgc平台使用上有任何問題，請來信社團mail！）</p><p>本活動可使用Google表單填寫報名：<a target="_blank" rel="noopener noreferrer" href="https://forms.gle/Lp32wCP5ScAfYUZC7">https://forms.gle/Lp32wCP5ScAfYUZC7</a></p><p><br>▶本活動可配合本社<a target="_blank" rel="noopener noreferrer" href="https://sites.google.com/view/utgsc0529/114%E6%80%A7%E5%88%A5%E6%84%8F%E8%AD%98%E5%9F%B9%E5%8A%9B%E8%A8%88%E7%95%AB/utgsc114-point-description">性別意識培力</a>活動集2點<br><br>※有意入社者請最晚於每次社團課前一日12:00之前填寫入社表單：<a target="_blank" rel="noopener noreferrer" href="https://www.google.com/url?q=https://forms.gle/PeGuU6KwCPebfkGi9&amp;sa=D&amp;source=calendar&amp;usd=2&amp;usg=AOvVaw0inBwdbNvbNCpq-2jfqZW-">https://forms.gle/PeGuU6KwCPebfkGi9</a><br>※社團地點：博愛校區</p>
LOCATION:臺北市中正區愛國西路1號, 臺北市立大學博愛校區C210
END:VEVENT
BEGIN:VEVENT
UID:d7da9fa8-6f8e-4499-a56f-88a9eb4192b1@udgc.cc
DTSTAMP:20260421T182344
DTSTART:20260309T120000
DTEND:20260309T130000
SUMMARY:0309博愛校區-北市大蘋果節
DESCRIPTION:<p>今日0309是本校博愛校區蘋果節活動！我們在藝術館前有擺攤，歡迎來找我們了解社團活動！</p><h3>我們社團在幹嘛：</h3><ul><li>多元聊天</li><li>探討議題</li><li>開闊視野</li><li>活動聚會</li><li>講座、社遊等等等等</li></ul><h2>關於[蘋果節]現場活動：</h2><h4>於蘋果節攤位時間，完成：</h4><ol><li>加入udgc平台會員</li><li>綁定學號或udgc聯盟碼（僅社員）並本社訂閱電子報</li><li>成功報名本活動</li><li>拿取本社名片至少了解一個性別旗幟</li></ol><h4>即可以獲贈：</h4><ul><li>蘋果汁一瓶（限量！贈完為止）</li><li>本社<a target="_blank" rel="noopener noreferrer" href="https://www.google.com/url?q=https%3A%2F%2Fsites.google.com%2Fview%2Futgsc0529%2F114%25E6%2580%25A7%25E5%2588%25A5%25E6%2584%258F%25E8%25AD%2598%25E5%259F%25B9%25E5%258A%259B%25E8%25A8%2588%25E7%2595%25AB%2Futgsc114-point-description&amp;sa=D&amp;sntz=1&amp;usg=AOvVaw1uFloopGmAbdtMdwPjPKNY">性別意識培力</a>活動集1點（需註冊/登入）</li></ul><p>每人每學號每id限領一次，活動辦法北市大性研社有最後解釋修改權</p><h3>關於[蘋果節]社員募集：</h3><p><strong>招募範圍：本校師生優先；外校青年亦可</strong></p><p><strong>社課時間：（大部分）</strong></p><p><strong>第一學期 - 星期四18:15~20:15</strong></p><p><strong>第二學期 - 星期三18:15~20:15</strong></p><p><strong>詳情依當學期規劃行事為主</strong></p><p><strong>社員費用：</strong></p><ul><li><strong>晚鳥1142社員資格100元 (原300元/114學年)</strong><br><strong>若同時提早加入115學年度社員資格只要400元</strong><br><strong>（下個學年度社費不排除有所調整！）</strong></li><li><strong>社幹免費，可直接申請入社(依組織章程辦理)</strong></li><li><strong>終身社員：三年社員資格或一年半社幹服務</strong></li></ul><p><strong>社員福利：</strong></p><ul><li><strong>免費社課、活動、講座</strong></li><li><strong>社員專屬聚會/活動/講座</strong></li><li><strong>社團重大決議提議與投票</strong></li><li><strong>多元性別聯盟免費/優惠跨校參與</strong></li><li><strong>社遊...其他更多福利等你來！</strong></li></ul><p><strong>歡迎來信聯絡，或洽本社IG@utgsc0529</strong></p><p><a href="mailto:contact@utgsc.udgc.cc">contact@utgsc.udgc.cc</a></p>
LOCATION:臺北市中正區愛國西路1號, 臺北市立大學博愛校區藝術館前攤位
END:VEVENT
BEGIN:VEVENT
UID:791a106b-3797-413c-a777-9497a374840e@udgc.cc
DTSTAMP:20260421T182344
DTSTART:20260310T183000
DTEND:20260310T203000
SUMMARY:書法、性研聯合社課：性別平等教育遇上書法(114-2)
DESCRIPTION:<p>性別平等書法比賽：書心書性，寫出你心中理想的性別模樣。&nbsp;<br>（比賽之相關細則將於當週公告）<br>社團<a target="_blank" rel="noopener noreferrer" href="https://www.google.com/url?q=https://www.instagram.com/utgsc0529/profilecard/?igsh%3DMXJrMWhjeWZjaWtjNA%3D%3D&amp;sa=D&amp;source=calendar&amp;usd=2&amp;usg=AOvVaw2IyqZAQKDywnHLe5x7EKRM">IG@utgsc0529</a>，<a href="mailto:mail%3Autgsc0529@gmail.com">mail:utgsc0529@gmail.com</a><br>本次活動資訊：<br>時間：3/10（二）18:30~20:30<br>課程地點：<strong>博愛校區C406</strong><br>主題：書法、性研聯合社課：性別平等教育遇上書法（書法社主題為第二次社課）<br>費用：免費（非書法社員者須填寫報名表單）<br>多元性別聯盟成員欲參與者記得提醒社長更新成員名單以便核對！<br>後續將寄送報名成功信，請務必確認有收到成功信再來！<br>若於報名截止當日23:59前未收到，請來信社團確認。<br>報名至活動前一日12:00截止<br>&nbsp;</p><p>以上詳細社團相關資訊，請見本社IG帳號</p><p>同時以下會列出一些問題，包括與多元性別群體之關係等性別相關之問題，僅將作為社團研究之主題討論方向參考。如果有任何問題或想要交流的地方，歡迎洽詢本社！</p><p>以下表單如有不周之處，敬請指教！（如udgc平台使用上有任何問題，請來信社團mail！）</p><p>本活動可使用Google表單填寫報名：<a target="_blank" rel="noopener noreferrer" href="https://forms.gle/Lp32wCP5ScAfYUZC7">https://forms.gle/Lp32wCP5ScAfYUZC7</a></p><p><br>▶本活動可配合本社<a target="_blank" rel="noopener noreferrer" href="https://sites.google.com/view/utgsc0529/114%E6%80%A7%E5%88%A5%E6%84%8F%E8%AD%98%E5%9F%B9%E5%8A%9B%E8%A8%88%E7%95%AB/utgsc114-point-description">性別意識培力</a>活動集2點<br><br>※有意入社者請最晚於每次社團課前一日12:00之前填寫入社表單：<a target="_blank" rel="noopener noreferrer" href="https://www.google.com/url?q=https://forms.gle/PeGuU6KwCPebfkGi9&amp;sa=D&amp;source=calendar&amp;usd=2&amp;usg=AOvVaw0inBwdbNvbNCpq-2jfqZW-">https://forms.gle/PeGuU6KwCPebfkGi9</a><br>※社團地點：博愛校區</p>
LOCATION:臺北市中正區愛國西路1號, 臺北市立大學博愛校區C406
END:VEVENT
BEGIN:VEVENT
UID:54ee1528-7dba-4796-bfcb-6c531cf6b4b4@udgc.cc
DTSTAMP:20260421T182344
DTSTART:20260318T181500
DTEND:20260318T201500
SUMMARY:社員專屬：玩具分享會(114-2)
DESCRIPTION:<p>「你的玩具不是你的玩具」&nbsp;</p><p>你有想過，你喜歡的玩具真的就是玩具嗎？這是單純的喜歡，又或者實則是受背後的社會期待所操控的呢？ 在孩提時期，想要的、抑或是收到的玩具，是芭比娃娃還是變形金剛？ 透過此次分享會，我們將探討玩具與性別之間的關係，以及其背後可能潛藏著的、被賦予的意涵。&nbsp;</p><ul><li>本次分享會請各位攜帶至少一樣你的玩具來分享，玩具類型不拘，由你定義你的玩具，其形無論是大的小的粗的細的長的短的厚的薄的，只要帶得過來願意分享的都可以。</li></ul><p>社團<a target="_blank" rel="noopener noreferrer" href="https://www.google.com/url?q=https://www.instagram.com/utgsc0529/profilecard/?igsh%3DMXJrMWhjeWZjaWtjNA%3D%3D&amp;sa=D&amp;source=calendar&amp;usd=2&amp;usg=AOvVaw2IyqZAQKDywnHLe5x7EKRM">IG@utgsc0529</a>，<a href="mailto:contact@utsgc.udgc.cc">mail:contact@utsgc.udgc.cc</a><br>本次活動資訊：<br>時間：3/18（三）18:15~20:15<br>課程地點：博愛校區<strong>CB105B（0318 18:13更新）</strong><br>主題：社員專屬：玩具分享會<br><strong>本場活動僅限本社正式社員（年度社員）透過本UDGC平台報名參與(多元性別聯盟恕無法參與)</strong><br>請社員先註冊本平台會員後，來信社團讓幹部知道你的帳號或註冊之電子郵件設定社團會員身分即可報名<br>後續將寄送報名成功信，請務必確認有收到成功信再來！<br>若於報名截止當日23:59前未收到，請來信社團確認。<br>報名至活動前一日12:00截止<br>&nbsp;</p><p>以上詳細社團相關資訊，請見本社IG帳號</p><p>同時以下會列出一些問題，包括與多元性別群體之關係等性別相關之問題，僅將作為社團研究之主題討論方向參考。如果有任何問題或想要交流的地方，歡迎洽詢本社！</p><p>以下表單如有不周之處，敬請指教！（如udgc平台使用上有任何問題，請來信社團mail！）</p><p>▶本活動可配合本社<a target="_blank" rel="noopener noreferrer" href="https://sites.google.com/view/utgsc0529/114%E6%80%A7%E5%88%A5%E6%84%8F%E8%AD%98%E5%9F%B9%E5%8A%9B%E8%A8%88%E7%95%AB/utgsc114-point-description">性別意識培力</a>活動集2點</p><p>※有意入社者請最晚於每次社團課前一日12:00之前填寫入社表單：<a target="_blank" rel="noopener noreferrer" href="https://www.google.com/url?q=https://forms.gle/PeGuU6KwCPebfkGi9&amp;sa=D&amp;source=calendar&amp;usd=2&amp;usg=AOvVaw0inBwdbNvbNCpq-2jfqZW-">https://forms.gle/PeGuU6KwCPebfkGi9</a><br>※社團地點：博愛校區</p>
LOCATION:臺北市中正區愛國西路1號, 臺北市立大學博愛校區CB105B
END:VEVENT
BEGIN:VEVENT
UID:7e17cf08-f156-4c43-ac74-dde881aa1dbb@udgc.cc
DTSTAMP:20260421T182344
DTSTART:20260325T181500
DTEND:20260325T203000
SUMMARY:電影工作坊：燃燒女子的畫像(114-2)
DESCRIPTION:<p>「轉過來。」</p><p>《燃燒女子的畫像》為2019年上映的女性電影，探討凝視以及女性之間的視線騰挪。</p><p>誠摯邀請大家蒞臨，一同欣賞好電影。（社幹強力推薦）</p><p>社團<a target="_blank" rel="noopener noreferrer" href="https://www.google.com/url?q=https://www.instagram.com/utgsc0529/profilecard/?igsh%3DMXJrMWhjeWZjaWtjNA%3D%3D&amp;sa=D&amp;source=calendar&amp;usd=2&amp;usg=AOvVaw2IyqZAQKDywnHLe5x7EKRM">IG@utgsc0529</a>，<a href="mailto:contact@utgsc.udgc.cc">mail:contact@utgsc.udgc.cc</a><br>本次活動資訊：<br>時間：3/25（三）18:15~20:30+（電影時長幾乎為兩小時整，為保留討論之時間，可能時間上會比較久）<br>課程地點：G304<strong>A （03/23 15:11更正）</strong><br>主題：電影工作坊：燃燒女子的畫像<br>費用：本社社員、多元性別聯盟成員免費<br>非社員：<br>本校同學<strong>本學期第一次</strong>參與本社社課(請帶學生證查驗身分)/<br>使用<strong>udgc平台</strong>報名者(推廣期間可選擇<a target="_blank" rel="noopener noreferrer" href="https://forms.gle/wYureJ2YjSs5MvPv8">Google表單</a>或udgc平台表單擇一報名即可) - 免收<br>本場臨時社員費：50元<br>多元性別聯盟成員欲參與者記得提醒社長更新成員名單以便核對！<br>後續將寄送報名成功信，請務必確認有收到成功信再來！<br>若於報名截止當日23:59前未收到，請來信社團確認。<br>報名至活動前一日12:00截止<br>&nbsp;</p><p>以上詳細社團相關資訊，請見<a target="_blank" rel="noopener noreferrer" href="https://utgsc.udgc.cc/">本社官網</a>或IG帳號</p><p>同時以下會列出一些問題，包括與多元性別群體之關係等性別相關之問題，僅將作為社團研究之主題討論方向參考。如果有任何問題或想要交流的地方，歡迎洽詢本社！</p><p>以下表單如有不周之處，敬請指教！（如udgc平台使用上有任何問題，請來信社團mail！）</p><p><br>▶本活動可配合本社<a target="_blank" rel="noopener noreferrer" href="https://sites.google.com/view/utgsc0529/114%E6%80%A7%E5%88%A5%E6%84%8F%E8%AD%98%E5%9F%B9%E5%8A%9B%E8%A8%88%E7%95%AB/utgsc114-point-description">性別意識培力</a>活動集2點<br><br>※有意入社者請最晚於每次社團課前一日12:00之前填寫入社表單：<a target="_blank" rel="noopener noreferrer" href="https://www.google.com/url?q=https://forms.gle/PeGuU6KwCPebfkGi9&amp;sa=D&amp;source=calendar&amp;usd=2&amp;usg=AOvVaw0inBwdbNvbNCpq-2jfqZW-">https://forms.gle/PeGuU6KwCPebfkGi9</a><br>※社團地點：博愛校區</p>
LOCATION:臺北市中正區愛國西路1號, 臺北市立大學博愛校區G304A
END:VEVENT
BEGIN:VEVENT
UID:24af1882-19a7-488d-be90-b5818865a7b8@udgc.cc
DTSTAMP:20260421T182344
DTSTART:20260401T181000
DTEND:20260401T205000
SUMMARY:真人圖書館：半半跨來聊(114-2)
DESCRIPTION:<p>多元性別LGBTQIA+，LGBTQ經常說，而排在這之中後面的A，通常解釋為Ally（盟友），也就是支持多元性別群體的人們<br>而作為盟友，可能在支持、相處與陪伴過程中會經歷些什麼？</p><p>「性別各半的非二元性別者」&nbsp;<br>此次邀請到網路創作者「半半跨來聊」的半半來分享其過往經驗。 身為跨性別盟友的半半，擁有多重性別身份。 在此邀請各位踴躍報名參加，並和我們一同聆聽這位人物獨特的生命故事。<br>社團<a target="_blank" rel="noopener noreferrer" href="https://www.google.com/url?q=https://www.instagram.com/utgsc0529/profilecard/?igsh%3DMXJrMWhjeWZjaWtjNA%3D%3D&amp;sa=D&amp;source=calendar&amp;usd=2&amp;usg=AOvVaw2IyqZAQKDywnHLe5x7EKRM">IG@utgsc0529</a>，<a href="mailto:contact@utgsc.udgc.cc">mail:contact@utgsc.udgc.cc</a><br>本次活動資訊：<br>時間：4/1（三）18:10~20:50-<br>課程地點：G304<strong>A （03/23 15:11更正）</strong><br>主題：真人圖書館：半半跨來聊<br>費用：本社社員、多元性別聯盟成員免費<br>非社員：（依個人狀況收取費用）<br>本校同學本學期第一次參與本社社課(請帶學生證查驗身分)/<br>使用udgc平台報名者(推廣期間可選擇Google表單或udgc平台表單擇一報名即可) - 免收<br>多元性別聯盟成員欲參與者記得提醒社長更新成員名單以便核對！<br>後續將寄送報名成功信，請務必確認有收到成功信再來！<br>若於報名截止當日23:59前未收到，請來信社團確認。<br>報名至活動前一日12:00截止<br>&nbsp;</p><p>以上詳細社團相關資訊，請見<a target="_blank" rel="noopener noreferrer" href="https://utgsc.udgc.cc">本社官網</a>或IG帳號</p><p>同時以下會列出一些問題，包括與多元性別群體之關係等性別相關之問題，僅將作為社團研究之主題討論方向參考。如果有任何問題或想要交流的地方，歡迎洽詢本社！</p><p>以下表單如有不周之處，敬請指教！（如udgc平台使用上有任何問題，請來信社團mail！）</p><p><br>▶本活動可配合本社<a target="_blank" rel="noopener noreferrer" href="https://sites.google.com/view/utgsc0529/114%E6%80%A7%E5%88%A5%E6%84%8F%E8%AD%98%E5%9F%B9%E5%8A%9B%E8%A8%88%E7%95%AB/utgsc114-point-description">性別意識培力</a>活動集2點<br><br>※有意入社者請最晚於每次社團課前一日12:00之前填寫入社表單：<a target="_blank" rel="noopener noreferrer" href="https://www.google.com/url?q=https://forms.gle/PeGuU6KwCPebfkGi9&amp;sa=D&amp;source=calendar&amp;usd=2&amp;usg=AOvVaw0inBwdbNvbNCpq-2jfqZW-">https://forms.gle/PeGuU6KwCPebfkGi9</a><br>※社團地點：博愛校區</p>
LOCATION:臺北市中正區愛國西路1號, 臺北市立大學博愛校區G304A
END:VEVENT
BEGIN:VEVENT
UID:99e34524-a5b2-4fe4-b52a-af254b2d1ce1@udgc.cc
DTSTAMP:20260421T182344
DTSTART:20260408T181500
DTEND:20260408T201500
SUMMARY:多元讀書會：用一本書開啟聊天(114-2)
DESCRIPTION:<p>「還想和你談論宇宙和天空　或是沙灘裡的碎石和人生」——《還願》／草東沒有派對</p><p>本場活動邀請所有人攜帶自己想分享的書籍，並與大家一起自由暢談。</p><p>鄰近期中了，也許有人還忙碌於準備期中的考試，所以這場建議帶本書來簡略分享，然後需要讀書的同學可以聚在這裡與大家一同讀書！</p><p>社團<a target="_blank" rel="noopener noreferrer" href="https://www.google.com/url?q=https://www.instagram.com/utgsc0529/profilecard/?igsh%3DMXJrMWhjeWZjaWtjNA%3D%3D&amp;sa=D&amp;source=calendar&amp;usd=2&amp;usg=AOvVaw2IyqZAQKDywnHLe5x7EKRM">IG@utgsc0529</a>，<a href="mailto:contact@utgsc.udgc.cc">mail:contact@utgsc.udgc.cc</a><br>本次活動資訊：<br>時間：4/8（三）18:15~20:15<br>課程地點：G304<strong>A （03/23 15:11更正）</strong><br>主題：多元讀書會：用一本書開啟聊天<br>費用：本社社員、多元性別聯盟成員免費<br>非社員：（依個人狀況收取費用）<br>本校同學本學期第一次參與本社社課(請帶學生證查驗身分)/<br>使用udgc平台報名者(推廣期間可選擇Google表單或udgc平台表單擇一報名即可) - 免收<br>多元性別聯盟成員欲參與者記得提醒社長更新成員名單以便核對！<br>後續將寄送報名成功信，請務必確認有收到成功信再來！<br>若於報名截止當日23:59前未收到，請來信社團確認。<br>報名至活動前一日12:00截止<br>&nbsp;</p><p>以上詳細社團相關資訊，請見<a target="_blank" rel="noopener noreferrer" href="https://utgsc.udgc.cc/">本社官網</a>或IG帳號</p><p>同時以下會列出一些問題，包括與多元性別群體之關係等性別相關之問題，僅將作為社團研究之主題討論方向參考。如果有任何問題或想要交流的地方，歡迎洽詢本社！</p><p>以下表單如有不周之處，敬請指教！（如udgc平台使用上有任何問題，請來信社團mail！）</p><p><br>▶本活動可配合本社<a target="_blank" rel="noopener noreferrer" href="https://sites.google.com/view/utgsc0529/114%E6%80%A7%E5%88%A5%E6%84%8F%E8%AD%98%E5%9F%B9%E5%8A%9B%E8%A8%88%E7%95%AB/utgsc114-point-description">性別意識培力</a>活動集2點<br><br>※有意入社者請最晚於每次社團課前一日12:00之前填寫入社表單（115）：<a target="_blank" rel="noopener noreferrer" href="https://forms.gle/ayom1D15Dhsnt7aL8">https://forms.gle/ayom1D15Dhsnt7aL8</a><br>※社團地點：博愛校區</p>
LOCATION:臺北市中正區愛國西路1號, 臺北市立大學博愛校區G304A
END:VEVENT
BEGIN:VEVENT
UID:802a89bc-2a5d-4bfd-8d19-b3ba341e6502@udgc.cc
DTSTAMP:20260421T182344
DTSTART:20260414T170000
DTEND:20260501T235900
SUMMARY:臺北市立大學性／別研究社 114性別意識培力抽獎登記表單
DESCRIPTION:<p>請使用所集點的Google帳號填寫本表，點擊送出即可。（點擊連結或直接連至Google表單有需要學號或多元性別聯盟代碼的部分會自動填入）</p><p>登記狀況會在截止登記後24小時內以電子郵件通知，如有任何問題請來信反應。</p><p>送出後要確認有沒有收到信，也可能在垃圾信件中請務必留心</p><p>115.5.1晚上23:59截止登記</p><p>115.5.5社團期末大會通知</p><p>115.5.6領獎</p><p><strong>具中獎資格者請務必出席參與本社社團期末大會</strong></p><p>本社<a target="_blank" rel="noopener noreferrer" href="http://instagram.com/utgsc0529">IG@utgsc0529</a>&nbsp;<a target="_blank" rel="noopener noreferrer" href="http://x.com/utgsc0529">X@utgsc0529</a>&nbsp;Gmail:utgsc0529@gmail.com<br>社群相關連結放置於IG上的<a target="_blank" rel="noopener noreferrer" href="http://linktr.ee/utgsc0529">連結樹</a>。</p><p>※社團地點：博愛校區</p>
LOCATION:臺北市中正區愛國西路1號, 臺北市立大學博愛校區
END:VEVENT
BEGIN:VEVENT
UID:f9a86f46-eaac-4cd7-8342-4dd4def6a74a@udgc.cc
DTSTAMP:20260421T182344
DTSTART:20260420T183000
DTEND:20260420T203000
SUMMARY:天母校區＿《怎樣的性教育才夠全面？——認識全面性教育》
DESCRIPTION:<p>「永誌不忘紀念　往事不如煙」——《玫瑰少年》／蔡依林</p><p>為紀念於2000年4月20日逝去的「玫瑰少年」葉永鋕，教育部在2022年將4月20日這一天訂定為「性別平等教育日」，期望引導學校深化性別平等教育，建構性別友善校園環境。</p><p>此次為性／別研究社首次於天母校區進行的活動，邀請各位在這一天與我們一起對性教育有更進一步的認識。</p><p>&nbsp;</p><p>社團<a target="_blank" rel="noopener noreferrer" href="https://www.google.com/url?q=https://www.instagram.com/utgsc0529/profilecard/?igsh%3DMXJrMWhjeWZjaWtjNA%3D%3D&amp;sa=D&amp;source=calendar&amp;usd=2&amp;usg=AOvVaw2IyqZAQKDywnHLe5x7EKRM">IG@utgsc0529</a>，<a href="mailto:contact@utgsc.udgc.cc">mail:contact@utgsc.udgc.cc</a><br>本次活動資訊：<br>時間：4/20（一）18:15~20:30<br>課程地點：天母校區C311a<br>主題：天母校區＿《怎樣的性教育才夠全面？——認識全面性教育》<br>費用：本社社員、多元性別聯盟成員免費<br>非社員：（依個人狀況收取費用）<br>本校同學本學期第一次參與本社社課(請帶學生證查驗身分)/<br>使用udgc平台報名者(推廣期間可選擇Google表單或udgc平台表單擇一報名即可) - 免收<br>多元性別聯盟成員欲參與者記得提醒社長更新成員名單以便核對！<br>後續將寄送報名成功信，請務必確認有收到成功信再來！<br>若於報名截止當日23:59前未收到，請來信社團確認。<br>報名至活動前一日12:00截止<br>&nbsp;</p><p>以上詳細社團相關資訊，請見<a target="_blank" rel="noopener noreferrer" href="https://utgsc.udgc.cc/">本社官網</a>或IG帳號</p><p>同時以下會列出一些問題，包括與多元性別群體之關係等性別相關之問題，僅將作為社團研究之主題討論方向參考。如果有任何問題或想要交流的地方，歡迎洽詢本社！</p><p>以下表單如有不周之處，敬請指教！（如udgc平台使用上有任何問題，請來信社團mail！）</p><p><br>▶本活動可配合本社<a target="_blank" rel="noopener noreferrer" href="https://sites.google.com/view/utgsc0529/114%E6%80%A7%E5%88%A5%E6%84%8F%E8%AD%98%E5%9F%B9%E5%8A%9B%E8%A8%88%E7%95%AB/utgsc114-point-description">性別意識培力</a>活動集2點<br><br>※有意入社者請最晚於每次社團課前一日12:00之前填寫入社表單（115）：<a target="_blank" rel="noopener noreferrer" href="https://forms.gle/ayom1D15Dhsnt7aL8">https://forms.gle/ayom1D15Dhsnt7aL8</a><br>※社團地點：博愛校區</p>
LOCATION:臺北市士林區忠誠路二段101號, 臺北市立大學天母校區C311a
END:VEVENT
BEGIN:VEVENT
UID:e3d62d3d-579f-4f33-90ef-fe6b7c2cfbc7@udgc.cc
DTSTAMP:20260421T182344
DTSTART:20260422T181500
DTEND:20260422T201500
SUMMARY:社課：初識女性主義
DESCRIPTION:<p>「女人並非生而為女人，而是成為女人。」——《第二性》／西蒙・波娃</p><p>「女性」作為社會上的「第二性」，有許多困境是多數男性所無法感同身受的。</p><p>此次社課邀請到危芷芬教授為我們解說並探討女性主義，期望各位能夠加入本次社團課程並一同討論。</p><p>&nbsp;</p><p>社團<a target="_blank" rel="noopener noreferrer" href="https://www.google.com/url?q=https://www.instagram.com/utgsc0529/profilecard/?igsh%3DMXJrMWhjeWZjaWtjNA%3D%3D&amp;sa=D&amp;source=calendar&amp;usd=2&amp;usg=AOvVaw2IyqZAQKDywnHLe5x7EKRM">IG@utgsc0529</a>，<a href="mailto:contact@utgsc.udgc.cc">mail:contact@utgsc.udgc.cc</a><br>本次活動資訊：<br>時間：4/22（三）18:15~20:15<br>課程地點：G304A<br>主題：社課：初識女性主義<br>費用：本社社員、多元性別聯盟成員免費<br>非社員：（依個人狀況收取費用）<br>本校同學本學期第一次參與本社社課(請帶學生證查驗身分)/<br>使用udgc平台報名者(推廣期間可選擇Google表單或udgc平台表單擇一報名即可) - 免收<br>多元性別聯盟成員欲參與者記得提醒社長更新成員名單以便核對！<br>後續將寄送報名成功信，請務必確認有收到成功信再來！<br>若於報名截止當日23:59前未收到，請來信社團確認。<br>報名至活動前一日12:00截止<br>&nbsp;</p><p>以上詳細社團相關資訊，請見<a target="_blank" rel="noopener noreferrer" href="https://utgsc.udgc.cc/">本社官網</a>或IG帳號</p><p>同時以下會列出一些問題，包括與多元性別群體之關係等性別相關之問題，僅將作為社團研究之主題討論方向參考。如果有任何問題或想要交流的地方，歡迎洽詢本社！</p><p>以下表單如有不周之處，敬請指教！（如udgc平台使用上有任何問題，請來信社團mail！）</p><p><br>▶本活動可配合本社<a target="_blank" rel="noopener noreferrer" href="https://sites.google.com/view/utgsc0529/114%E6%80%A7%E5%88%A5%E6%84%8F%E8%AD%98%E5%9F%B9%E5%8A%9B%E8%A8%88%E7%95%AB/utgsc114-point-description">性別意識培力</a>活動集2點<br><br>※有意入社者請最晚於每次社團課前一日12:00之前填寫入社表單（115）：<a target="_blank" rel="noopener noreferrer" href="https://forms.gle/ayom1D15Dhsnt7aL8">https://forms.gle/ayom1D15Dhsnt7aL8</a><br>※社團地點：博愛校區</p>
LOCATION:臺北市中正區愛國西路1號, 臺北市立大學博愛校區G304A
END:VEVENT
BEGIN:VEVENT
UID:f04dbd15-86a6-494e-b024-8691763620a6@udgc.cc
DTSTAMP:20260421T182344
DTSTART:20260429T181000
DTEND:20260429T205000
SUMMARY:男兒有「淚/累」不輕「彈/談」？從心理學與社會學角度談男孩/男人的身心健康
DESCRIPTION:<p>西蒙．波娃在《第二性》中曾提出一句經典名言：「女人不是天生的，而是後天形成的。」透過這句話，她強調「女性」是如何被整個社會和性別文化給建構出來的。然而，社會的影響力不可能只在對女性身上，同樣置身在社會中的男性，依然逃不出其魔掌。因此，對我來說：「男孩/男人也不是天生的，而是後天形成的。」我將在演講中，分享：一個男孩究竟是如何被養大成男人？在這養大的過程，男孩們有機會身心健康地長大嗎？</p><p>&nbsp;</p><p>社團<a target="_blank" rel="noopener noreferrer" href="https://www.google.com/url?q=https://www.instagram.com/utgsc0529/profilecard/?igsh%3DMXJrMWhjeWZjaWtjNA%3D%3D&amp;sa=D&amp;source=calendar&amp;usd=2&amp;usg=AOvVaw2IyqZAQKDywnHLe5x7EKRM">IG@utgsc0529</a>，<a href="mailto:contact@utgsc.udgc.cc">mail:contact@utgsc.udgc.cc</a><br>本次活動資訊：<br>時間：4/29（三）18:10~20:50-<br>課程地點：G304A<br>主題：男兒有「淚/累」不輕「彈/談」？從心理學與社會學角度談男孩/男人的身心健康<br>費用：本社社員、多元性別聯盟成員免費<br>非社員：（依個人狀況收取費用）<br>本校同學本學期第一次參與本社社課(請帶學生證查驗身分)/<br>使用udgc平台報名者(推廣期間可選擇Google表單或udgc平台表單擇一報名即可) - 免收<br>多元性別聯盟成員欲參與者記得提醒社長更新成員名單以便核對！<br>後續將寄送報名成功信，請務必確認有收到成功信再來！<br>若於報名截止當日23:59前未收到，請來信社團確認。<br>報名至活動前一日12:00截止<br>&nbsp;</p><p>以上詳細社團相關資訊，請見<a target="_blank" rel="noopener noreferrer" href="https://utgsc.udgc.cc/">本社官網</a>或IG帳號</p><p>同時以下會列出一些問題，包括與多元性別群體之關係等性別相關之問題，僅將作為社團研究之主題討論方向參考。如果有任何問題或想要交流的地方，歡迎洽詢本社！</p><p>以下表單如有不周之處，敬請指教！（如udgc平台使用上有任何問題，請來信社團mail！）</p><p><br>▶本活動可配合本社<a target="_blank" rel="noopener noreferrer" href="https://sites.google.com/view/utgsc0529/114%E6%80%A7%E5%88%A5%E6%84%8F%E8%AD%98%E5%9F%B9%E5%8A%9B%E8%A8%88%E7%95%AB/utgsc114-point-description">性別意識培力</a>活動集2點<br><br>※有意入社者請最晚於每次社團課前一日12:00之前填寫入社表單（115）：<a target="_blank" rel="noopener noreferrer" href="https://forms.gle/ayom1D15Dhsnt7aL8">https://forms.gle/ayom1D15Dhsnt7aL8</a><br>※社團地點：博愛校區</p>
LOCATION:臺北市中正區愛國西路1號, 臺北市立大學博愛校區G304A
END:VEVENT
BEGIN:VEVENT
UID:9ef8f89e-a1b5-4330-bbd8-2c816d97406b@udgc.cc
DTSTAMP:20260421T182344
DTSTART:20260506T181500
DTEND:20260506T201500
SUMMARY:期末社員大會
DESCRIPTION:<p>期末將至，也是本學年即將迎來尾聲的時刻。</p><p>參與本社期末大會並入社115學年度社員者可享社費優惠50元</p><p>社團<a target="_blank" rel="noopener noreferrer" href="https://www.google.com/url?q=https://www.instagram.com/utgsc0529/profilecard/?igsh%3DMXJrMWhjeWZjaWtjNA%3D%3D&amp;sa=D&amp;source=calendar&amp;usd=2&amp;usg=AOvVaw2IyqZAQKDywnHLe5x7EKRM">IG@utgsc0529</a>，<a href="mailto:contact@utgsc.udgc.cc">mail:contact@utgsc.udgc.cc</a><br>本次活動資訊：<br>時間：5/6（三）18:15~20:15<br>課程地點：G304A<br>主題：期末社員大會<br>費用：本社社員、多元性別聯盟成員免費<br>非社員：（依個人狀況收取費用）<br>本校同學本學期第一次參與本社社課(請帶學生證查驗身分)/<br>使用udgc平台報名者(推廣期間可選擇Google表單或udgc平台表單擇一報名即可) - 免收<br>多元性別聯盟成員欲參與者記得提醒社長更新成員名單以便核對！<br>後續將寄送報名成功信，請務必確認有收到成功信再來！<br>若於報名截止當日23:59前未收到，請來信社團確認。<br>報名至活動前一日12:00截止<br>&nbsp;</p><p>以上詳細社團相關資訊，請見<a target="_blank" rel="noopener noreferrer" href="https://utgsc.udgc.cc/">本社官網</a>或IG帳號</p><p>同時以下會列出一些問題，包括與多元性別群體之關係等性別相關之問題，僅將作為社團研究之主題討論方向參考。如果有任何問題或想要交流的地方，歡迎洽詢本社！</p><p>以下表單如有不周之處，敬請指教！（如udgc平台使用上有任何問題，請來信社團mail！）</p><p><br>▶本活動可配合本社<a target="_blank" rel="noopener noreferrer" href="https://sites.google.com/view/utgsc0529/114%E6%80%A7%E5%88%A5%E6%84%8F%E8%AD%98%E5%9F%B9%E5%8A%9B%E8%A8%88%E7%95%AB/utgsc114-point-description">性別意識培力</a>活動集2點<br><br>※有意入社者請最晚於每次社團課前一日12:00之前填寫入社表單（115）：<a target="_blank" rel="noopener noreferrer" href="https://forms.gle/ayom1D15Dhsnt7aL8">https://forms.gle/ayom1D15Dhsnt7aL8</a><br>※社團地點：博愛校區</p>
LOCATION:臺北市中正區愛國西路1號, 臺北市立大學博愛校區G304A
END:VEVENT
END:VCALENDAR