BEGIN:VCALENDAR
VERSION:2.0
PRODID:-//UDGC//Event Calendar//TW
CALSCALE:GREGORIAN
METHOD:PUBLISH
BEGIN:VEVENT
UID:de49d5d6-34ec-4d73-a1ea-5d99692a39c9@udgc.org.tw
DTSTAMP:20260421T194541
DTSTART:20260226T172900
DTEND:20260226T182900
SUMMARY:[北市大性研社] 測試用
DESCRIPTION:
LOCATION:線上
END:VEVENT
END:VCALENDAR