BEGIN:VCALENDAR
VERSION:2.0
PRODID:-//UDGC//Event Calendar//TW
CALSCALE:GREGORIAN
METHOD:PUBLISH
BEGIN:VEVENT
UID:d7da9fa8-6f8e-4499-a56f-88a9eb4192b1@udgc.org.tw
DTSTAMP:20260421T194210
DTSTART:20260309T120000
DTEND:20260309T130000
SUMMARY:[北市大性研社] 0309博愛校區-北市大蘋果節
DESCRIPTION:<p>今日0309是本校博愛校區蘋果節活動！我們在藝術館前有擺攤，歡迎來找我們了解社團活動！</p><h3>我們社團在幹嘛：</h3><ul><li>多元聊天</li><li>探討議題</li><li>開闊視野</li><li>活動聚會</li><li>講座、社遊等等等等</li></ul><h2>關於[蘋果節]現場活動：</h2><h4>於蘋果節攤位時間，完成：</h4><ol><li>加入udgc平台會員</li><li>綁定學號或udgc聯盟碼（僅社員）並本社訂閱電子報</li><li>成功報名本活動</li><li>拿取本社名片至少了解一個性別旗幟</li></ol><h4>即可以獲贈：</h4><ul><li>蘋果汁一瓶（限量！贈完為止）</li><li>本社<a target="_blank" rel="noopener noreferrer" href="https://www.google.com/url?q=https%3A%2F%2Fsites.google.com%2Fview%2Futgsc0529%2F114%25E6%2580%25A7%25E5%2588%25A5%25E6%2584%258F%25E8%25AD%2598%25E5%259F%25B9%25E5%258A%259B%25E8%25A8%2588%25E7%2595%25AB%2Futgsc114-point-description&amp;sa=D&amp;sntz=1&amp;usg=AOvVaw1uFloopGmAbdtMdwPjPKNY">性別意識培力</a>活動集1點（需註冊/登入）</li></ul><p>每人每學號每id限領一次，活動辦法北市大性研社有最後解釋修改權</p><h3>關於[蘋果節]社員募集：</h3><p><strong>招募範圍：本校師生優先；外校青年亦可</strong></p><p><strong>社課時間：（大部分）</strong></p><p><strong>第一學期 - 星期四18:15~20:15</strong></p><p><strong>第二學期 - 星期三18:15~20:15</strong></p><p><strong>詳情依當學期規劃行事為主</strong></p><p><strong>社員費用：</strong></p><ul><li><strong>晚鳥1142社員資格100元 (原300元/114學年)</strong><br><strong>若同時提早加入115學年度社員資格只要400元</strong><br><strong>（下個學年度社費不排除有所調整！）</strong></li><li><strong>社幹免費，可直接申請入社(依組織章程辦理)</strong></li><li><strong>終身社員：三年社員資格或一年半社幹服務</strong></li></ul><p><strong>社員福利：</strong></p><ul><li><strong>免費社課、活動、講座</strong></li><li><strong>社員專屬聚會/活動/講座</strong></li><li><strong>社團重大決議提議與投票</strong></li><li><strong>多元性別聯盟免費/優惠跨校參與</strong></li><li><strong>社遊...其他更多福利等你來！</strong></li></ul><p><strong>歡迎來信聯絡，或洽本社IG@utgsc0529</strong></p><p><a href="mailto:contact@utgsc.udgc.cc">contact@utgsc.udgc.cc</a></p>
LOCATION:臺北市中正區愛國西路1號, 臺北市立大學博愛校區藝術館前攤位
END:VEVENT
END:VCALENDAR