BEGIN:VCALENDAR
VERSION:2.0
PRODID:-//UDGC//Event Calendar//TW
CALSCALE:GREGORIAN
METHOD:PUBLISH
BEGIN:VEVENT
UID:977fa054-c21e-4c55-a258-f7d258159cef@udgc.org.tw
DTSTAMP:20260421T195128
DTSTART:20260304T181500
DTEND:20260304T201500
SUMMARY:[北市大性研社] 匿名聊天會：成人水療中心(114-2)
DESCRIPTION:<p>在網路上以及生活中對於性或性別的話題相對於以往都開放了不少，但是想到我們對於朋友之間想開口談性，可能就不見得開的了口，或者也不知從何開口，也擔心聊天尺度上的問題...</p><p>這次，我們藉由一同聽網路podcast，輔以匿名聊天工具來對談～這次也是我們想嘗試不同形式的聊天會，儘管不知道會發生些什麼，但如果你也願意與我們一同聊聊看關於成人場域的話題，歡迎來參加！<br>社團<a target="_blank" rel="noopener noreferrer" href="https://www.google.com/url?q=https://www.instagram.com/utgsc0529/profilecard/?igsh%3DMXJrMWhjeWZjaWtjNA%3D%3D&amp;sa=D&amp;source=calendar&amp;usd=2&amp;usg=AOvVaw2IyqZAQKDywnHLe5x7EKRM">IG@utgsc0529</a>，<a href="mailto:mail%3Autgsc0529@gmail.com">mail:utgsc0529@gmail.com</a><br>本次活動資訊：<br>時間：3/4（三）18:15~20:15<br>課程地點：博愛校區C210<br>主題：匿名聊天會：成人水療中心<br>費用：本社社員、多元性別聯盟成員免費<br>非社員：（依個人狀況收取費用）<br>本校同學本學期第一次參與本社社課(請帶學生證查驗身分)/</p><p>使用udgc平台報名者(推廣期間可選擇Google表單或udgc平台表單擇一報名即可)/</p><p>我有零食可以分享/跟朋友一起來聊天 - 免收<br>我有一點支持的動力 - 20元<br>基本的一次性社員 - 50元<br>我想要社團請更多講師 - 100元<br>多元性別聯盟成員欲參與者記得提醒社長更新成員名單以便核對！<br>後續將寄送報名成功信，請務必確認有收到成功信再來！<br>若於報名截止當日23:59前未收到，請來信社團確認。<br>報名至活動前一日12:00截止<br>&nbsp;</p><p>以上詳細社團相關資訊，請見本社IG帳號</p><p>同時以下會列出一些問題，包括與多元性別群體之關係等性別相關之問題，僅將作為社團研究之主題討論方向參考。如果有任何問題或想要交流的地方，歡迎洽詢本社！</p><p>以下表單如有不周之處，敬請指教！（如udgc平台使用上有任何問題，請來信社團mail！）</p><p>本活動可使用Google表單填寫報名：<a target="_blank" rel="noopener noreferrer" href="https://forms.gle/Lp32wCP5ScAfYUZC7">https://forms.gle/Lp32wCP5ScAfYUZC7</a></p><p><br>▶本活動可配合本社<a target="_blank" rel="noopener noreferrer" href="https://sites.google.com/view/utgsc0529/114%E6%80%A7%E5%88%A5%E6%84%8F%E8%AD%98%E5%9F%B9%E5%8A%9B%E8%A8%88%E7%95%AB/utgsc114-point-description">性別意識培力</a>活動集2點<br><br>※有意入社者請最晚於每次社團課前一日12:00之前填寫入社表單：<a target="_blank" rel="noopener noreferrer" href="https://www.google.com/url?q=https://forms.gle/PeGuU6KwCPebfkGi9&amp;sa=D&amp;source=calendar&amp;usd=2&amp;usg=AOvVaw0inBwdbNvbNCpq-2jfqZW-">https://forms.gle/PeGuU6KwCPebfkGi9</a><br>※社團地點：博愛校區</p>
LOCATION:臺北市中正區愛國西路1號, 臺北市立大學博愛校區C210
END:VEVENT
END:VCALENDAR