BEGIN:VCALENDAR
VERSION:2.0
PRODID:-//UDGC//Event Calendar//TW
CALSCALE:GREGORIAN
METHOD:PUBLISH
BEGIN:VEVENT
UID:7e17cf08-f156-4c43-ac74-dde881aa1dbb@udgc.org.tw
DTSTAMP:20260421T194842
DTSTART:20260325T181500
DTEND:20260325T203000
SUMMARY:[北市大性研社] 電影工作坊：燃燒女子的畫像(114-2)
DESCRIPTION:<p>「轉過來。」</p><p>《燃燒女子的畫像》為2019年上映的女性電影，探討凝視以及女性之間的視線騰挪。</p><p>誠摯邀請大家蒞臨，一同欣賞好電影。（社幹強力推薦）</p><p>社團<a target="_blank" rel="noopener noreferrer" href="https://www.google.com/url?q=https://www.instagram.com/utgsc0529/profilecard/?igsh%3DMXJrMWhjeWZjaWtjNA%3D%3D&amp;sa=D&amp;source=calendar&amp;usd=2&amp;usg=AOvVaw2IyqZAQKDywnHLe5x7EKRM">IG@utgsc0529</a>，<a href="mailto:contact@utgsc.udgc.cc">mail:contact@utgsc.udgc.cc</a><br>本次活動資訊：<br>時間：3/25（三）18:15~20:30+（電影時長幾乎為兩小時整，為保留討論之時間，可能時間上會比較久）<br>課程地點：G304<strong>A （03/23 15:11更正）</strong><br>主題：電影工作坊：燃燒女子的畫像<br>費用：本社社員、多元性別聯盟成員免費<br>非社員：<br>本校同學<strong>本學期第一次</strong>參與本社社課(請帶學生證查驗身分)/<br>使用<strong>udgc平台</strong>報名者(推廣期間可選擇<a target="_blank" rel="noopener noreferrer" href="https://forms.gle/wYureJ2YjSs5MvPv8">Google表單</a>或udgc平台表單擇一報名即可) - 免收<br>本場臨時社員費：50元<br>多元性別聯盟成員欲參與者記得提醒社長更新成員名單以便核對！<br>後續將寄送報名成功信，請務必確認有收到成功信再來！<br>若於報名截止當日23:59前未收到，請來信社團確認。<br>報名至活動前一日12:00截止<br>&nbsp;</p><p>以上詳細社團相關資訊，請見<a target="_blank" rel="noopener noreferrer" href="https://utgsc.udgc.cc/">本社官網</a>或IG帳號</p><p>同時以下會列出一些問題，包括與多元性別群體之關係等性別相關之問題，僅將作為社團研究之主題討論方向參考。如果有任何問題或想要交流的地方，歡迎洽詢本社！</p><p>以下表單如有不周之處，敬請指教！（如udgc平台使用上有任何問題，請來信社團mail！）</p><p><br>▶本活動可配合本社<a target="_blank" rel="noopener noreferrer" href="https://sites.google.com/view/utgsc0529/114%E6%80%A7%E5%88%A5%E6%84%8F%E8%AD%98%E5%9F%B9%E5%8A%9B%E8%A8%88%E7%95%AB/utgsc114-point-description">性別意識培力</a>活動集2點<br><br>※有意入社者請最晚於每次社團課前一日12:00之前填寫入社表單：<a target="_blank" rel="noopener noreferrer" href="https://www.google.com/url?q=https://forms.gle/PeGuU6KwCPebfkGi9&amp;sa=D&amp;source=calendar&amp;usd=2&amp;usg=AOvVaw0inBwdbNvbNCpq-2jfqZW-">https://forms.gle/PeGuU6KwCPebfkGi9</a><br>※社團地點：博愛校區</p>
LOCATION:臺北市中正區愛國西路1號, 臺北市立大學博愛校區G304A
END:VEVENT
END:VCALENDAR