BEGIN:VCALENDAR
VERSION:2.0
PRODID:-//UDGC//Event Calendar//TW
CALSCALE:GREGORIAN
METHOD:PUBLISH
BEGIN:VEVENT
UID:791a106b-3797-413c-a777-9497a374840e@udgc.org.tw
DTSTAMP:20260421T194956
DTSTART:20260310T183000
DTEND:20260310T203000
SUMMARY:[北市大性研社] 書法、性研聯合社課：性別平等教育遇上書法(114-2)
DESCRIPTION:<p>性別平等書法比賽：書心書性，寫出你心中理想的性別模樣。&nbsp;<br>（比賽之相關細則將於當週公告）<br>社團<a target="_blank" rel="noopener noreferrer" href="https://www.google.com/url?q=https://www.instagram.com/utgsc0529/profilecard/?igsh%3DMXJrMWhjeWZjaWtjNA%3D%3D&amp;sa=D&amp;source=calendar&amp;usd=2&amp;usg=AOvVaw2IyqZAQKDywnHLe5x7EKRM">IG@utgsc0529</a>，<a href="mailto:mail%3Autgsc0529@gmail.com">mail:utgsc0529@gmail.com</a><br>本次活動資訊：<br>時間：3/10（二）18:30~20:30<br>課程地點：<strong>博愛校區C406</strong><br>主題：書法、性研聯合社課：性別平等教育遇上書法（書法社主題為第二次社課）<br>費用：免費（非書法社員者須填寫報名表單）<br>多元性別聯盟成員欲參與者記得提醒社長更新成員名單以便核對！<br>後續將寄送報名成功信，請務必確認有收到成功信再來！<br>若於報名截止當日23:59前未收到，請來信社團確認。<br>報名至活動前一日12:00截止<br>&nbsp;</p><p>以上詳細社團相關資訊，請見本社IG帳號</p><p>同時以下會列出一些問題，包括與多元性別群體之關係等性別相關之問題，僅將作為社團研究之主題討論方向參考。如果有任何問題或想要交流的地方，歡迎洽詢本社！</p><p>以下表單如有不周之處，敬請指教！（如udgc平台使用上有任何問題，請來信社團mail！）</p><p>本活動可使用Google表單填寫報名：<a target="_blank" rel="noopener noreferrer" href="https://forms.gle/Lp32wCP5ScAfYUZC7">https://forms.gle/Lp32wCP5ScAfYUZC7</a></p><p><br>▶本活動可配合本社<a target="_blank" rel="noopener noreferrer" href="https://sites.google.com/view/utgsc0529/114%E6%80%A7%E5%88%A5%E6%84%8F%E8%AD%98%E5%9F%B9%E5%8A%9B%E8%A8%88%E7%95%AB/utgsc114-point-description">性別意識培力</a>活動集2點<br><br>※有意入社者請最晚於每次社團課前一日12:00之前填寫入社表單：<a target="_blank" rel="noopener noreferrer" href="https://www.google.com/url?q=https://forms.gle/PeGuU6KwCPebfkGi9&amp;sa=D&amp;source=calendar&amp;usd=2&amp;usg=AOvVaw0inBwdbNvbNCpq-2jfqZW-">https://forms.gle/PeGuU6KwCPebfkGi9</a><br>※社團地點：博愛校區</p>
LOCATION:臺北市中正區愛國西路1號, 臺北市立大學博愛校區C406
END:VEVENT
END:VCALENDAR