BEGIN:VCALENDAR
VERSION:2.0
PRODID:-//UDGC//Event Calendar//TW
CALSCALE:GREGORIAN
METHOD:PUBLISH
BEGIN:VEVENT
UID:6a2c6109-951a-4c59-9245-621a4879fbe4@udgc.org.tw
DTSTAMP:20260421T194954
DTSTART:20260225T181500
DTEND:20260225T201500
SUMMARY:[北市大性研社] 1142期初社聚
DESCRIPTION:<p>農曆新年祝大家新年快樂！社長寒假不小心過到太渾沌了，也是時候該準備下學期的活動了</p><p>這次為新一學期的第一次社團活動，期初社聚，歡迎大家一同來簡單聊聊天，認識瞭解與討論社團相關事務！</p><p>社團<a target="_blank" rel="noopener noreferrer" href="https://www.instagram.com/utgsc0529/profilecard/?igsh=MXJrMWhjeWZjaWtjNA==">IG@utgsc0529</a>，<a target="_blank" rel="noopener noreferrer" href="https://x.com/utgsc0529">X@utgsc0529</a>，mail:utgsc0529@gmail.com</p><p>本次活動資訊：</p><p><strong>校內中正堂前廣場集合時間：17:50前（欲自行前往者請先回信）</strong></p><p>時間：2/25（三） 18:15～20:15+</p><p>地點：報名後活動前通知</p><p>主題：期初社聚</p><p>報名費用：<strong>本社社員及多元性別聯盟會員免收</strong>，其餘非社員將<strong>酌收50元社團行政營運費</strong>。</p><p>------------------------</p><p>--------注意事項--------</p><p>------------------------</p><p>活動詳情依報名填寫狀況而定，包括地點及額外費用等！</p><p>（後續將寄送報名成功信，也請注意檢查是否有寄至垃圾郵件）</p><p>報名最遲至115.2.22中午12:00截止。（根據人數進行安排訂位或其他調整）</p><p>------------------------</p><p>以上詳細社團相關資訊，請見本社IG帳號</p><p>如果有任何問題或想要交流的地方，歡迎洽詢本社！</p><p>以下表單如有不周之處，敬請指教！</p><p>※有意入社者請最晚於每次社團課前一日中午12:00之前填寫入社表單：<a target="_blank" rel="noopener noreferrer" href="https://forms.gle/B9w2CjHBYT5BkHybA">https://forms.gle/B9w2CjHBYT5BkHybA</a></p><p>※本社社團地點：博愛校區</p>
LOCATION:報名後活動前通知
END:VEVENT
END:VCALENDAR