BEGIN:VCALENDAR
VERSION:2.0
PRODID:-//UDGC//Event Calendar//TW
CALSCALE:GREGORIAN
METHOD:PUBLISH
BEGIN:VEVENT
UID:63d8b70f-3c12-482f-a21b-53b4fec3cce5@udgc.org.tw
DTSTAMP:20260421T194634
DTSTART:20260219T021000
DTEND:20260219T141000
SUMMARY:[北市大性研社] TEST2
DESCRIPTION:<p>https://instagram.com/utgsc0529<br><a target="_blank" rel="noopener noreferrer" href="https://instagram.com/utgsc0529">測試看看</a></p><p><strong>不知道如何</strong></p>
LOCATION:線上
END:VEVENT
END:VCALENDAR