BEGIN:VCALENDAR
VERSION:2.0
PRODID:-//UDGC//Event Calendar//TW
CALSCALE:GREGORIAN
METHOD:PUBLISH
BEGIN:VEVENT
UID:54ee1528-7dba-4796-bfcb-6c531cf6b4b4@udgc.org.tw
DTSTAMP:20260421T194756
DTSTART:20260318T181500
DTEND:20260318T201500
SUMMARY:[北市大性研社] 社員專屬：玩具分享會(114-2)
DESCRIPTION:<p>「你的玩具不是你的玩具」&nbsp;</p><p>你有想過，你喜歡的玩具真的就是玩具嗎？這是單純的喜歡，又或者實則是受背後的社會期待所操控的呢？ 在孩提時期，想要的、抑或是收到的玩具，是芭比娃娃還是變形金剛？ 透過此次分享會，我們將探討玩具與性別之間的關係，以及其背後可能潛藏著的、被賦予的意涵。&nbsp;</p><ul><li>本次分享會請各位攜帶至少一樣你的玩具來分享，玩具類型不拘，由你定義你的玩具，其形無論是大的小的粗的細的長的短的厚的薄的，只要帶得過來願意分享的都可以。</li></ul><p>社團<a target="_blank" rel="noopener noreferrer" href="https://www.google.com/url?q=https://www.instagram.com/utgsc0529/profilecard/?igsh%3DMXJrMWhjeWZjaWtjNA%3D%3D&amp;sa=D&amp;source=calendar&amp;usd=2&amp;usg=AOvVaw2IyqZAQKDywnHLe5x7EKRM">IG@utgsc0529</a>，<a href="mailto:contact@utsgc.udgc.cc">mail:contact@utsgc.udgc.cc</a><br>本次活動資訊：<br>時間：3/18（三）18:15~20:15<br>課程地點：博愛校區<strong>CB105B（0318 18:13更新）</strong><br>主題：社員專屬：玩具分享會<br><strong>本場活動僅限本社正式社員（年度社員）透過本UDGC平台報名參與(多元性別聯盟恕無法參與)</strong><br>請社員先註冊本平台會員後，來信社團讓幹部知道你的帳號或註冊之電子郵件設定社團會員身分即可報名<br>後續將寄送報名成功信，請務必確認有收到成功信再來！<br>若於報名截止當日23:59前未收到，請來信社團確認。<br>報名至活動前一日12:00截止<br>&nbsp;</p><p>以上詳細社團相關資訊，請見本社IG帳號</p><p>同時以下會列出一些問題，包括與多元性別群體之關係等性別相關之問題，僅將作為社團研究之主題討論方向參考。如果有任何問題或想要交流的地方，歡迎洽詢本社！</p><p>以下表單如有不周之處，敬請指教！（如udgc平台使用上有任何問題，請來信社團mail！）</p><p>▶本活動可配合本社<a target="_blank" rel="noopener noreferrer" href="https://sites.google.com/view/utgsc0529/114%E6%80%A7%E5%88%A5%E6%84%8F%E8%AD%98%E5%9F%B9%E5%8A%9B%E8%A8%88%E7%95%AB/utgsc114-point-description">性別意識培力</a>活動集2點</p><p>※有意入社者請最晚於每次社團課前一日12:00之前填寫入社表單：<a target="_blank" rel="noopener noreferrer" href="https://www.google.com/url?q=https://forms.gle/PeGuU6KwCPebfkGi9&amp;sa=D&amp;source=calendar&amp;usd=2&amp;usg=AOvVaw0inBwdbNvbNCpq-2jfqZW-">https://forms.gle/PeGuU6KwCPebfkGi9</a><br>※社團地點：博愛校區</p>
LOCATION:臺北市中正區愛國西路1號, 臺北市立大學博愛校區CB105B
END:VEVENT
END:VCALENDAR